Package: edge Version: 2.42.0 Command: /Library/Frameworks/R.framework/Resources/bin/R CMD check --install=check:edge.install-out.txt --library=/Library/Frameworks/R.framework/Resources/library --no-vignettes --timings edge_2.42.0.tar.gz StartedAt: 2025-11-03 20:59:16 -0500 (Mon, 03 Nov 2025) EndedAt: 2025-11-03 21:02:42 -0500 (Mon, 03 Nov 2025) EllapsedTime: 205.9 seconds RetCode: 0 Status: OK CheckDir: edge.Rcheck Warnings: 0