Package: edge Version: 2.42.0 Command: /Library/Frameworks/R.framework/Resources/bin/R CMD build --keep-empty-dirs --no-resave-data edge StartedAt: 2025-11-03 16:54:21 -0500 (Mon, 03 Nov 2025) EndedAt: 2025-11-03 16:55:41 -0500 (Mon, 03 Nov 2025) EllapsedTime: 80.1 seconds RetCode: 0 Status: OK PackageFile: edge_2.42.0.tar.gz PackageFileSize: 1002 KiB