Package: edge Version: 2.42.0 Command: rm -rf edge.buildbin-libdir && mkdir edge.buildbin-libdir && /Users/biocbuild/BBS/utils/build-universal.sh edge_2.42.0.tar.gz /Library/Frameworks/R.framework/Resources/bin/R edge.buildbin-libdir StartedAt: 2025-11-04 01:38:33 -0500 (Tue, 04 Nov 2025) EndedAt: 2025-11-04 01:39:14 -0500 (Tue, 04 Nov 2025) EllapsedTime: 40.6 seconds RetCode: 0 Status: OK PackageFile: edge_2.42.0.tgz PackageFileSize: 1.577 MiB