Package: ecolitk Version: 1.81.0 Command: /home/biocbuild/bbs-3.22-bioc/R/bin/R CMD check --install=check:ecolitk.install-out.txt --library=/home/biocbuild/bbs-3.22-bioc/R/site-library --timings ecolitk_1.81.0.tar.gz StartedAt: 2025-10-21 23:30:27 -0400 (Tue, 21 Oct 2025) EndedAt: 2025-10-21 23:31:06 -0400 (Tue, 21 Oct 2025) EllapsedTime: 39.0 seconds RetCode: 0 Status: WARNINGS CheckDir: ecolitk.Rcheck Warnings: 1