Package: ecolitk Version: 1.81.0 Command: /Library/Frameworks/R.framework/Resources/bin/R CMD INSTALL ecolitk StartedAt: 2025-10-23 15:06:57 -0400 (Thu, 23 Oct 2025) EndedAt: 2025-10-23 15:06:59 -0400 (Thu, 23 Oct 2025) EllapsedTime: 1.5 seconds RetCode: 0 Status: OK