Package: ecolitk Version: 1.81.0 Command: rm -rf ecolitk.buildbin-libdir && mkdir ecolitk.buildbin-libdir && /Users/biocbuild/BBS/utils/build-universal.sh ecolitk_1.81.0.tar.gz /Library/Frameworks/R.framework/Resources/bin/R ecolitk.buildbin-libdir StartedAt: 2025-10-23 23:08:24 -0400 (Thu, 23 Oct 2025) EndedAt: 2025-10-23 23:08:27 -0400 (Thu, 23 Oct 2025) EllapsedTime: 2.0 seconds RetCode: 0 Status: OK PackageFile: ecolitk_1.81.0.tgz PackageFileSize: 1.876 MiB