Package: easyreporting Version: 1.22.0 Command: /Library/Frameworks/R.framework/Resources/bin/R CMD INSTALL easyreporting StartedAt: 2025-11-17 16:59:35 -0500 (Mon, 17 Nov 2025) EndedAt: 2025-11-17 16:59:42 -0500 (Mon, 17 Nov 2025) EllapsedTime: 6.9 seconds RetCode: 0 Status: OK