Package: easyreporting Version: 1.22.0 Command: /Library/Frameworks/R.framework/Resources/bin/R CMD build --keep-empty-dirs --no-resave-data easyreporting StartedAt: 2025-11-17 22:09:53 -0500 (Mon, 17 Nov 2025) EndedAt: 2025-11-17 22:10:10 -0500 (Mon, 17 Nov 2025) EllapsedTime: 17.1 seconds RetCode: 0 Status: OK PackageFile: easyreporting_1.22.0.tar.gz PackageFileSize: 2.94 MiB