Package: easyreporting Version: 1.22.0 Command: /Library/Frameworks/R.framework/Resources/bin/R CMD INSTALL easyreporting StartedAt: 2025-11-20 16:07:45 -0500 (Thu, 20 Nov 2025) EndedAt: 2025-11-20 16:08:03 -0500 (Thu, 20 Nov 2025) EllapsedTime: 18.6 seconds RetCode: 0 Status: OK