Package: easyRNASeq Version: 2.45.1 Command: F:\biocbuild\bbs-3.22-bioc\R\bin\R.exe CMD check --no-multiarch --install=check:easyRNASeq.install-out.txt --library=F:\biocbuild\bbs-3.22-bioc\R\library --no-vignettes --timings easyRNASeq_2.45.1.tar.gz StartedAt: 2025-08-15 02:50:57 -0400 (Fri, 15 Aug 2025) EndedAt: 2025-08-15 03:03:19 -0400 (Fri, 15 Aug 2025) EllapsedTime: 741.9 seconds RetCode: 0 Status: WARNINGS CheckDir: easyRNASeq.Rcheck Warnings: 1