Package: easyRNASeq Version: 2.46.0 Command: /home/biocbuild/bbs-3.22-bioc/R/bin/R CMD check --install=check:easyRNASeq.install-out.txt --library=/home/biocbuild/bbs-3.22-bioc/R/site-library --timings easyRNASeq_2.46.0.tar.gz StartedAt: 2025-11-02 23:28:55 -0500 (Sun, 02 Nov 2025) EndedAt: 2025-11-02 23:41:50 -0500 (Sun, 02 Nov 2025) EllapsedTime: 774.8 seconds RetCode: 0 Status: WARNINGS CheckDir: easyRNASeq.Rcheck Warnings: 1