Package: easyRNASeq Version: 2.46.0 Command: /Library/Frameworks/R.framework/Resources/bin/R CMD INSTALL easyRNASeq StartedAt: 2025-11-03 15:47:04 -0500 (Mon, 03 Nov 2025) EndedAt: 2025-11-03 15:48:05 -0500 (Mon, 03 Nov 2025) EllapsedTime: 61.2 seconds RetCode: 0 Status: OK