Package: easyRNASeq Version: 2.46.0 Command: /Library/Frameworks/R.framework/Resources/bin/R CMD check --install=check:easyRNASeq.install-out.txt --library=/Library/Frameworks/R.framework/Resources/library --no-vignettes --timings easyRNASeq_2.46.0.tar.gz StartedAt: 2025-11-03 20:58:20 -0500 (Mon, 03 Nov 2025) EndedAt: 2025-11-03 21:09:28 -0500 (Mon, 03 Nov 2025) EllapsedTime: 668.3 seconds RetCode: 0 Status: WARNINGS CheckDir: easyRNASeq.Rcheck Warnings: 1