Package: easyRNASeq Version: 2.46.0 Command: /Library/Frameworks/R.framework/Resources/bin/R CMD check --install=check:easyRNASeq.install-out.txt --library=/Library/Frameworks/R.framework/Resources/library --no-vignettes --timings easyRNASeq_2.46.0.tar.gz StartedAt: 2025-11-04 19:36:30 -0500 (Tue, 04 Nov 2025) EndedAt: 2025-11-04 19:40:31 -0500 (Tue, 04 Nov 2025) EllapsedTime: 240.9 seconds RetCode: 0 Status: WARNINGS CheckDir: easyRNASeq.Rcheck Warnings: 1