Package: easyRNASeq Version: 2.46.0 Command: /Library/Frameworks/R.framework/Resources/bin/R CMD build --keep-empty-dirs --no-resave-data easyRNASeq StartedAt: 2025-11-02 16:17:22 -0500 (Sun, 02 Nov 2025) EndedAt: 2025-11-02 16:19:20 -0500 (Sun, 02 Nov 2025) EllapsedTime: 118.3 seconds RetCode: 0 Status: OK PackageFile: easyRNASeq_2.46.0.tar.gz PackageFileSize: 69.55 MiB