Package: easyRNASeq Version: 2.46.0 Command: rm -rf easyRNASeq.buildbin-libdir && mkdir easyRNASeq.buildbin-libdir && /Users/biocbuild/BBS/utils/build-universal.sh easyRNASeq_2.46.0.tar.gz /Library/Frameworks/R.framework/Resources/bin/R easyRNASeq.buildbin-libdir StartedAt: 2025-11-02 23:03:32 -0500 (Sun, 02 Nov 2025) EndedAt: 2025-11-02 23:03:53 -0500 (Sun, 02 Nov 2025) EllapsedTime: 21.4 seconds RetCode: 0 Status: OK PackageFile: easyRNASeq_2.46.0.tgz PackageFileSize: 24.07 MiB