Package: easier Version: 1.15.0 Command: rm -rf easier.buildbin-libdir && mkdir easier.buildbin-libdir && F:\biocbuild\bbs-3.22-bioc\R\bin\R.exe CMD INSTALL --build --library=easier.buildbin-libdir easier_1.15.0.tar.gz StartedAt: 2025-08-15 10:11:54 -0400 (Fri, 15 Aug 2025) EndedAt: 2025-08-15 10:12:49 -0400 (Fri, 15 Aug 2025) EllapsedTime: 54.7 seconds RetCode: 0 Status: OK PackageFile: easier_1.15.0.zip PackageFileSize: 1.866 MiB