Package: drugTargetInteractions Version: 1.18.0 Command: /Library/Frameworks/R.framework/Resources/bin/R CMD build --keep-empty-dirs --no-resave-data drugTargetInteractions StartedAt: 2025-10-31 16:56:48 -0400 (Fri, 31 Oct 2025) EndedAt: 2025-10-31 16:58:55 -0400 (Fri, 31 Oct 2025) EllapsedTime: 126.9 seconds RetCode: 0 Status: OK PackageFile: drugTargetInteractions_1.18.0.tar.gz PackageFileSize: 958.6 KiB