Package: drugTargetInteractions Version: 1.18.0 Command: /Library/Frameworks/R.framework/Resources/bin/R CMD check --install=check:drugTargetInteractions.install-out.txt --library=/Library/Frameworks/R.framework/Resources/library --no-vignettes --timings drugTargetInteractions_1.18.0.tar.gz StartedAt: 2025-11-10 19:51:00 -0500 (Mon, 10 Nov 2025) EndedAt: 2025-11-10 19:53:30 -0500 (Mon, 10 Nov 2025) EllapsedTime: 149.8 seconds RetCode: 0 Status: OK CheckDir: drugTargetInteractions.Rcheck Warnings: 0