############################################################################## ############################################################################## ### ### Running command: ### ### /home/biocbuild/R/R/bin/R CMD check --install=check:dreamlet.install-out.txt --library=/home/biocbuild/R/R/site-library --no-vignettes --timings dreamlet_1.7.1.tar.gz ### ############################################################################## ############################################################################## * using log directory ‘/home/biocbuild/bbs-3.22-bioc/meat/dreamlet.Rcheck’ * using R version 4.5.0 (2025-04-11) * using platform: aarch64-unknown-linux-gnu * R was compiled by aarch64-unknown-linux-gnu-gcc (GCC) 14.2.0 GNU Fortran (GCC) 14.2.0 * running under: openEuler 24.03 (LTS) * using session charset: UTF-8 Warning in writeBin(block[seq_len(min(512L, remain))], out) : problem writing to connection Warning in writeBin(block[seq_len(min(512L, remain))], out) : problem writing to connection Warning in writeBin(block[seq_len(min(512L, remain))], out) : problem writing to connection Warning in writeBin(block[seq_len(min(512L, remain))], out) : problem writing to connection Warning in writeBin(block[seq_len(min(512L, remain))], out) : problem writing to connection Warning in writeBin(block[seq_len(min(512L, remain))], out) : problem writing to connection Warning in writeBin(block[seq_len(min(512L, remain))], out) : problem writing to connection Warning in writeBin(block[seq_len(min(512L, remain))], out) : problem writing to connection Warning in writeBin(block[seq_len(min(512L, remain))], out) : problem writing to connection Warning in writeBin(block[seq_len(min(512L, remain))], out) : problem writing to connection Warning in writeBin(block[seq_len(min(512L, remain))], out) : problem writing to connection Warning in writeBin(block[seq_len(min(512L, remain))], out) : problem writing to connection Warning in writeBin(block[seq_len(min(512L, remain))], out) : problem writing to connection Warning in writeBin(block[seq_len(min(512L, remain))], out) : problem writing to connection Warning in writeBin(block[seq_len(min(512L, remain))], out) : problem writing to connection Warning in writeBin(block[seq_len(min(512L, remain))], out) : problem writing to connection Warning in writeBin(block[seq_len(min(512L, remain))], out) : problem writing to connection Warning in writeBin(block[seq_len(min(512L, remain))], out) : problem writing to connection Warning in writeBin(block[seq_len(min(512L, remain))], out) : problem writing to connection Warning in writeBin(block[seq_len(min(512L, remain))], out) : problem writing to connection Warning in writeBin(block[seq_len(min(512L, remain))], out) : problem writing to connection Warning in writeBin(block[seq_len(min(512L, remain))], out) : problem writing to connection Warning in writeBin(block[seq_len(min(512L, remain))], out) : problem writing to connection Warning in writeBin(block[seq_len(min(512L, remain))], out) : problem writing to connection Warning in writeBin(block[seq_len(min(512L, remain))], out) : problem writing to connection Warning in writeBin(block[seq_len(min(512L, remain))], out) : problem writing to connection Warning in writeBin(block[seq_len(min(512L, remain))], out) : problem writing to connection Warning in writeBin(block[seq_len(min(512L, remain))], out) : problem writing to connection Warning in writeBin(block[seq_len(min(512L, remain))], out) : problem writing to connection Warning in writeBin(block[seq_len(min(512L, remain))], out) : problem writing to connection Warning in writeBin(block[seq_len(min(512L, remain))], out) : problem writing to connection Warning in writeBin(block[seq_len(min(512L, remain))], out) : problem writing to connection Warning in writeBin(block[seq_len(min(512L, remain))], out) : problem writing to connection Warning in writeBin(block[seq_len(min(512L, remain))], out) : problem writing to connection Warning in writeBin(block[seq_len(min(512L, remain