Package: dreamlet Version: 1.7.1 Command: /home/biocbuild/bbs-3.22-bioc/R/bin/R CMD INSTALL dreamlet StartedAt: 2025-10-19 16:01:33 -0400 (Sun, 19 Oct 2025) EndedAt: 2025-10-19 16:02:46 -0400 (Sun, 19 Oct 2025) EllapsedTime: 72.8 seconds RetCode: 0 Status: OK