Package: dreamlet Version: 1.7.1 Command: /home/biocbuild/bbs-3.22-bioc/R/bin/R CMD check --install=check:dreamlet.install-out.txt --library=/home/biocbuild/bbs-3.22-bioc/R/site-library --timings dreamlet_1.7.1.tar.gz StartedAt: 2025-10-19 23:25:17 -0400 (Sun, 19 Oct 2025) EndedAt: 2025-10-19 23:42:39 -0400 (Sun, 19 Oct 2025) EllapsedTime: 1042.0 seconds RetCode: 0 Status: OK CheckDir: dreamlet.Rcheck Warnings: 0