Package: dreamlet Version: 1.7.1 Command: /home/biocbuild/bbs-3.22-bioc/R/bin/R CMD build --keep-empty-dirs --no-resave-data --md5 dreamlet StartedAt: 2025-10-20 17:22:01 -0400 (Mon, 20 Oct 2025) EndedAt: 2025-10-20 17:28:33 -0400 (Mon, 20 Oct 2025) EllapsedTime: 392.4 seconds RetCode: 0 Status: OK PackageFile: dreamlet_1.7.1.tar.gz PackageFileSize: 4.353 MiB