Package: dreamlet Version: 1.7.1 Command: /Library/Frameworks/R.framework/Resources/bin/R CMD INSTALL dreamlet StartedAt: 2025-10-22 15:49:57 -0400 (Wed, 22 Oct 2025) EndedAt: 2025-10-22 15:51:30 -0400 (Wed, 22 Oct 2025) EllapsedTime: 92.8 seconds RetCode: 0 Status: OK