Package: dreamlet Version: 1.7.1 Command: /Library/Frameworks/R.framework/Resources/bin/R CMD build --keep-empty-dirs --no-resave-data dreamlet StartedAt: 2025-10-22 16:48:59 -0400 (Wed, 22 Oct 2025) EndedAt: 2025-10-22 16:56:21 -0400 (Wed, 22 Oct 2025) EllapsedTime: 442.0 seconds RetCode: 0 Status: OK PackageFile: dreamlet_1.7.1.tar.gz PackageFileSize: 4.43 MiB