Package: dreamlet Version: 1.7.1 Command: /Library/Frameworks/R.framework/Resources/bin/R CMD INSTALL dreamlet StartedAt: 2025-10-21 15:32:41 -0400 (Tue, 21 Oct 2025) EndedAt: 2025-10-21 15:33:07 -0400 (Tue, 21 Oct 2025) EllapsedTime: 26.6 seconds RetCode: 0 Status: OK