Package: dreamlet Version: 1.7.1 Command: /Library/Frameworks/R.framework/Resources/bin/R CMD check --install=check:dreamlet.install-out.txt --library=/Library/Frameworks/R.framework/Resources/library --no-vignettes --timings dreamlet_1.7.1.tar.gz StartedAt: 2025-10-21 19:33:35 -0400 (Tue, 21 Oct 2025) EndedAt: 2025-10-21 19:37:33 -0400 (Tue, 21 Oct 2025) EllapsedTime: 237.9 seconds RetCode: 0 Status: OK CheckDir: dreamlet.Rcheck Warnings: 0