Package: dominoSignal Version: 1.3.0 Command: /home/biocbuild/R/R/bin/R CMD check --install=check:dominoSignal.install-out.txt --library=/home/biocbuild/R/R/site-library --no-vignettes --timings dominoSignal_1.3.0.tar.gz StartedAt: 2025-10-03 06:42:48 -0000 (Fri, 03 Oct 2025) EndedAt: 2025-10-03 06:46:27 -0000 (Fri, 03 Oct 2025) EllapsedTime: 219.2 seconds RetCode: 0 Status: OK CheckDir: dominoSignal.Rcheck Warnings: 0