Package: dominoSignal Version: 1.3.0 Command: /Library/Frameworks/R.framework/Resources/bin/R CMD INSTALL dominoSignal StartedAt: 2025-10-19 15:09:17 -0400 (Sun, 19 Oct 2025) EndedAt: 2025-10-19 15:09:26 -0400 (Sun, 19 Oct 2025) EllapsedTime: 9.4 seconds RetCode: 0 Status: OK