Package: dmrseq Version: 1.29.2 Command: /Library/Frameworks/R.framework/Resources/bin/R CMD INSTALL dmrseq StartedAt: 2025-10-16 16:05:23 -0400 (Thu, 16 Oct 2025) EndedAt: 2025-10-16 16:06:32 -0400 (Thu, 16 Oct 2025) EllapsedTime: 68.4 seconds RetCode: 0 Status: OK