Package: dmrseq Version: 1.29.2 Command: /Library/Frameworks/R.framework/Resources/bin/R CMD check --install=check:dmrseq.install-out.txt --library=/Library/Frameworks/R.framework/Resources/library --no-vignettes --timings dmrseq_1.29.2.tar.gz StartedAt: 2025-10-19 21:50:29 -0400 (Sun, 19 Oct 2025) EndedAt: 2025-10-19 21:58:39 -0400 (Sun, 19 Oct 2025) EllapsedTime: 489.2 seconds RetCode: 0 Status: OK CheckDir: dmrseq.Rcheck Warnings: 0