Package: dmrseq Version: 1.30.0 Command: /Library/Frameworks/R.framework/Resources/bin/R CMD check --install=check:dmrseq.install-out.txt --library=/Library/Frameworks/R.framework/Resources/library --no-vignettes --timings dmrseq_1.30.0.tar.gz StartedAt: 2025-11-10 19:48:00 -0500 (Mon, 10 Nov 2025) EndedAt: 2025-11-10 19:50:39 -0500 (Mon, 10 Nov 2025) EllapsedTime: 158.9 seconds RetCode: 0 Status: OK CheckDir: dmrseq.Rcheck Warnings: 0