Package: dmrseq Version: 1.30.0 Command: rm -rf dmrseq.buildbin-libdir && mkdir dmrseq.buildbin-libdir && /Users/biocbuild/BBS/utils/build-universal.sh dmrseq_1.30.0.tar.gz /Library/Frameworks/R.framework/Resources/bin/R dmrseq.buildbin-libdir StartedAt: 2025-11-10 23:18:21 -0500 (Mon, 10 Nov 2025) EndedAt: 2025-11-10 23:18:43 -0500 (Mon, 10 Nov 2025) EllapsedTime: 21.4 seconds RetCode: 0 Status: OK PackageFile: dmrseq_1.30.0.tgz PackageFileSize: 4.514 MiB