Package: dks Version: 1.55.0 Command: /home/biocbuild/R/R/bin/R CMD check --install=check:dks.install-out.txt --library=/home/biocbuild/R/R/site-library --no-vignettes --timings dks_1.55.0.tar.gz StartedAt: 2025-10-21 07:34:33 -0000 (Tue, 21 Oct 2025) EndedAt: 2025-10-21 07:35:10 -0000 (Tue, 21 Oct 2025) EllapsedTime: 37.0 seconds RetCode: 0 Status: OK CheckDir: dks.Rcheck Warnings: 0