Package: dks Version: 1.55.0 Command: rm -rf dks.buildbin-libdir && mkdir dks.buildbin-libdir && F:\biocbuild\bbs-3.22-bioc\R\bin\R.exe CMD INSTALL --build --library=dks.buildbin-libdir dks_1.55.0.tar.gz StartedAt: 2025-08-15 10:10:10 -0400 (Fri, 15 Aug 2025) EndedAt: 2025-08-15 10:10:19 -0400 (Fri, 15 Aug 2025) EllapsedTime: 8.6 seconds RetCode: 0 Status: OK PackageFile: dks_1.55.0.zip PackageFileSize: 455.1 KiB