Package: dks Version: 1.55.0 Command: /Library/Frameworks/R.framework/Resources/bin/R CMD INSTALL dks StartedAt: 2025-10-21 15:06:42 -0400 (Tue, 21 Oct 2025) EndedAt: 2025-10-21 15:07:12 -0400 (Tue, 21 Oct 2025) EllapsedTime: 29.1 seconds RetCode: 0 Status: OK