Package: dks Version: 1.55.0 Command: /Library/Frameworks/R.framework/Resources/bin/R CMD check --install=check:dks.install-out.txt --library=/Library/Frameworks/R.framework/Resources/library --no-vignettes --timings dks_1.55.0.tar.gz StartedAt: 2025-10-21 21:35:52 -0400 (Tue, 21 Oct 2025) EndedAt: 2025-10-21 21:36:26 -0400 (Tue, 21 Oct 2025) EllapsedTime: 34.3 seconds RetCode: 0 Status: OK CheckDir: dks.Rcheck Warnings: 0