Package: dks Version: 1.55.0 Command: /Library/Frameworks/R.framework/Resources/bin/R CMD build --keep-empty-dirs --no-resave-data dks StartedAt: 2025-10-21 17:00:05 -0400 (Tue, 21 Oct 2025) EndedAt: 2025-10-21 17:00:31 -0400 (Tue, 21 Oct 2025) EllapsedTime: 26.4 seconds RetCode: 0 Status: OK PackageFile: dks_1.55.0.tar.gz PackageFileSize: 600.4 KiB