Package: dks Version: 1.55.0 Command: rm -rf dks.buildbin-libdir && mkdir dks.buildbin-libdir && /Users/biocbuild/BBS/utils/build-universal.sh dks_1.55.0.tar.gz /Library/Frameworks/R.framework/Resources/bin/R dks.buildbin-libdir StartedAt: 2025-10-22 02:22:18 -0400 (Wed, 22 Oct 2025) EndedAt: 2025-10-22 02:22:24 -0400 (Wed, 22 Oct 2025) EllapsedTime: 5.8 seconds RetCode: 0 Status: OK PackageFile: dks_1.55.0.tgz PackageFileSize: 620 KiB