Package: dks Version: 1.55.0 Command: /Library/Frameworks/R.framework/Resources/bin/R CMD INSTALL dks StartedAt: 2025-10-24 15:04:06 -0400 (Fri, 24 Oct 2025) EndedAt: 2025-10-24 15:04:07 -0400 (Fri, 24 Oct 2025) EllapsedTime: 1.6 seconds RetCode: 0 Status: OK