Package: dks Version: 1.55.0 Command: /Library/Frameworks/R.framework/Resources/bin/R CMD build --keep-empty-dirs --no-resave-data dks StartedAt: 2025-10-23 16:14:13 -0400 (Thu, 23 Oct 2025) EndedAt: 2025-10-23 16:14:18 -0400 (Thu, 23 Oct 2025) EllapsedTime: 5.1 seconds RetCode: 0 Status: OK PackageFile: dks_1.55.0.tar.gz PackageFileSize: 601.3 KiB