Package: divergence Version: 1.25.0 Command: /home/biocbuild/R/R/bin/R CMD build --keep-empty-dirs --no-resave-data divergence StartedAt: 2025-10-20 23:24:34 -0000 (Mon, 20 Oct 2025) EndedAt: 2025-10-20 23:25:46 -0000 (Mon, 20 Oct 2025) EllapsedTime: 71.0 seconds RetCode: 0 Status: OK PackageFile: divergence_1.25.0.tar.gz PackageFileSize: 2.073 MiB