Package: divergence Version: 1.25.0 Command: F:\biocbuild\bbs-3.22-bioc\R\bin\R.exe CMD check --no-multiarch --install=check:divergence.install-out.txt --library=F:\biocbuild\bbs-3.22-bioc\R\library --no-vignettes --timings divergence_1.25.0.tar.gz StartedAt: 2025-08-15 02:41:12 -0400 (Fri, 15 Aug 2025) EndedAt: 2025-08-15 02:44:58 -0400 (Fri, 15 Aug 2025) EllapsedTime: 225.8 seconds RetCode: 0 Status: OK CheckDir: divergence.Rcheck Warnings: 0