Package: divergence Version: 1.26.0 Command: /Library/Frameworks/R.framework/Resources/bin/R CMD INSTALL divergence StartedAt: 2025-10-31 15:27:24 -0400 (Fri, 31 Oct 2025) EndedAt: 2025-10-31 15:27:52 -0400 (Fri, 31 Oct 2025) EllapsedTime: 27.9 seconds RetCode: 0 Status: OK