Package: divergence Version: 1.26.0 Command: /Library/Frameworks/R.framework/Resources/bin/R CMD build --keep-empty-dirs --no-resave-data divergence StartedAt: 2025-10-30 16:43:55 -0400 (Thu, 30 Oct 2025) EndedAt: 2025-10-30 16:45:00 -0400 (Thu, 30 Oct 2025) EllapsedTime: 64.9 seconds RetCode: 0 Status: OK PackageFile: divergence_1.26.0.tar.gz PackageFileSize: 2.073 MiB