Package: dittoSeq Version: 1.21.1 Command: /home/biocbuild/R/R/bin/R CMD INSTALL dittoSeq StartedAt: 2025-10-16 21:36:55 -0000 (Thu, 16 Oct 2025) EndedAt: 2025-10-16 21:37:32 -0000 (Thu, 16 Oct 2025) EllapsedTime: 36.6 seconds RetCode: 0 Status: OK