Package: dittoSeq Version: 1.21.1 Command: /home/biocbuild/R/R/bin/R CMD build --keep-empty-dirs --no-resave-data dittoSeq StartedAt: 2025-10-17 00:43:15 -0000 (Fri, 17 Oct 2025) EndedAt: 2025-10-17 00:46:10 -0000 (Fri, 17 Oct 2025) EllapsedTime: 175.1 seconds RetCode: 0 Status: OK PackageFile: dittoSeq_1.21.1.tar.gz PackageFileSize: 2.514 MiB