Package: dittoSeq Version: 1.21.0 Command: chmod a+r dittoSeq -R && F:\biocbuild\bbs-3.22-bioc\R\bin\R.exe CMD build --keep-empty-dirs --no-resave-data dittoSeq StartedAt: 2025-08-14 19:45:37 -0400 (Thu, 14 Aug 2025) EndedAt: 2025-08-14 19:48:44 -0400 (Thu, 14 Aug 2025) EllapsedTime: 186.6 seconds RetCode: 0 Status: OK PackageFile: dittoSeq_1.21.0.tar.gz PackageFileSize: 2.508 MiB