Package: dittoSeq Version: 1.21.1 Command: /home/biocbuild/bbs-3.22-bioc/R/bin/R CMD check --install=check:dittoSeq.install-out.txt --library=/home/biocbuild/bbs-3.22-bioc/R/site-library --timings dittoSeq_1.21.1.tar.gz StartedAt: 2025-10-19 23:16:41 -0400 (Sun, 19 Oct 2025) EndedAt: 2025-10-19 23:26:33 -0400 (Sun, 19 Oct 2025) EllapsedTime: 591.4 seconds RetCode: 0 Status: OK CheckDir: dittoSeq.Rcheck Warnings: 0