Package: dittoSeq Version: 1.21.1 Command: /Library/Frameworks/R.framework/Resources/bin/R CMD INSTALL dittoSeq StartedAt: 2025-10-19 15:25:22 -0400 (Sun, 19 Oct 2025) EndedAt: 2025-10-19 15:26:00 -0400 (Sun, 19 Oct 2025) EllapsedTime: 37.5 seconds RetCode: 0 Status: OK